BEGIN:VCALENDAR
VERSION:2.0
PRODID:-//wp-events-plugin.com//7.2.3.1//EN
TZID:America/New_York
X-WR-TIMEZONE:America/New_York
BEGIN:VEVENT
UID:100@scca-nnjr.com
DTSTART:20270228T050000Z
DTEND:20270228T050000Z
DTSTAMP:20250120T144430Z
URL:https://scca-nnjr.com/events/walter-j-huber-we-remember-2027-02-28/
SUMMARY:Walter J Huber - We remember....
DESCRIPTION:
ATTACH;FMTTYPE=image/jpeg:https://scca-nnjr.com/wp-content/uploads/2023/03
 /WalterJHuber-1.png
CATEGORIES:Meeting
END:VEVENT
END:VCALENDAR