BEGIN:VCALENDAR
VERSION:2.0
PRODID:-//wp-events-plugin.com//7.2.3.1//EN
TZID:America/New_York
X-WR-TIMEZONE:America/New_York
BEGIN:VEVENT
UID:2283@scca-nnjr.com
DTSTART:20280226T050000Z
DTEND:20280226T050000Z
DTSTAMP:20240202T125903Z
URL:https://scca-nnjr.com/events/sharon-a-burke-we-remember-2028-02-26/
SUMMARY:Sharon A. Burke - We remember....
DESCRIPTION:
ATTACH;FMTTYPE=image/jpeg:https://scca-nnjr.com/wp-content/uploads/2023/03
 /SharonBurke.jpg
CATEGORIES:Meeting
END:VEVENT
END:VCALENDAR