BEGIN:VCALENDAR
VERSION:2.0
PRODID:-//wp-events-plugin.com//7.2.3.1//EN
TZID:America/New_York
X-WR-TIMEZONE:America/New_York
BEGIN:VEVENT
UID:124@scca-nnjr.com
DTSTART:20290911T000000Z
DTEND:20290911T000000Z
DTSTAMP:20230326T045910Z
URL:https://scca-nnjr.com/events/joe-deluca-and-linda-gronlund-we-remember
 -2029-09-11/
SUMMARY:Joe DeLuca and Linda Gronlund - We remember....
DESCRIPTION:
ATTACH;FMTTYPE=image/jpeg:https://scca-nnjr.com/wp-content/uploads/2023/03
 /JoeandLinda.gif
CATEGORIES:Meeting
END:VEVENT
END:VCALENDAR