BEGIN:VCALENDAR
VERSION:2.0
PRODID:-//wp-events-plugin.com//7.2.3.1//EN
TZID:America/New_York
X-WR-TIMEZONE:America/New_York
BEGIN:VEVENT
UID:2338@scca-nnjr.com
DTSTART;TZID=America/New_York:20260426T000000
DTEND;TZID=America/New_York:20260426T000000
DTSTAMP:20260421T183311Z
URL:https://scca-nnjr.com/events/2026-04-26-rally-second-hand-roads-tsd-ra
 lly/
SUMMARY:2026-04-26 - RALLY - 'Second Hand Roads' TSD Rally
DESCRIPTION:\nWe currently have 29 teams signed up for the event and we sti
 ll have room for more to join the fun!\n\n\n\nThis rally will not have any
  course following traps\, but you will need to 'stay on your toes' to stay
  'on-time'\, enjoy the great roads and marvelous scenery and try to arrive
  at each checkpoint at precisely the right time. Checkpoints will be set
  up along the way to monitor how well you are following the assigned avera
 ge speeds. Awards will be presented to the teams who do the best job of a
 rriving at the checkpoints at the proper times. This is a rally designed 
 especially for people with little or no rally experience.\n\n\n\nEvent Reg
 istration is still open!\n\n\n\nFor more information and event registratio
 n - Link\n
ATTACH;FMTTYPE=image/jpeg:https://scca-nnjr.com/wp-content/uploads/2026/04
 /rally2.jpg
CATEGORIES:Rally
END:VEVENT
BEGIN:VTIMEZONE
TZID:America/New_York
X-LIC-LOCATION:America/New_York
BEGIN:DAYLIGHT
DTSTART:20260308T030000
TZOFFSETFROM:-0500
TZOFFSETTO:-0400
TZNAME:EDT
END:DAYLIGHT
END:VTIMEZONE
END:VCALENDAR